BEGIN:VCALENDAR
VERSION:2.0
PRODID:-//Modellfluggruppe Langenthal - ECPv6.15.20//NONSGML v1.0//EN
CALSCALE:GREGORIAN
METHOD:PUBLISH
X-WR-CALNAME:Modellfluggruppe Langenthal
X-ORIGINAL-URL:https://mg-la.ch
X-WR-CALDESC:Veranstaltungen für Modellfluggruppe Langenthal
REFRESH-INTERVAL;VALUE=DURATION:PT1H
X-Robots-Tag:noindex
X-PUBLISHED-TTL:PT1H
BEGIN:VTIMEZONE
TZID:UTC
BEGIN:STANDARD
TZOFFSETFROM:+0000
TZOFFSETTO:+0000
TZNAME:UTC
DTSTART:20240101T000000
END:STANDARD
END:VTIMEZONE
BEGIN:VEVENT
DTSTART;TZID=UTC:20250823T130000
DTEND;TZID=UTC:20250824T170000
DTSTAMP:20260422T171253
CREATED:20250629T140221Z
LAST-MODIFIED:20250629T141318Z
UID:3177-1755954000-1756054800@mg-la.ch
SUMMARY:Methanol Days 2025
DESCRIPTION:Oplus_131104
URL:https://mg-la.ch/event/methanol-days-2025/
LOCATION:Modellflugplatz Langenthal\, Schiessanlage Weier\,\, Langenthal\, Bern\, 4900\, Schweiz
END:VEVENT
END:VCALENDAR