BEGIN:VCALENDAR
VERSION:2.0
PRODID:-//Modellfluggruppe Langenthal - ECPv6.15.20//NONSGML v1.0//EN
CALSCALE:GREGORIAN
METHOD:PUBLISH
X-WR-CALNAME:Modellfluggruppe Langenthal
X-ORIGINAL-URL:https://mg-la.ch
X-WR-CALDESC:Veranstaltungen für Modellfluggruppe Langenthal
REFRESH-INTERVAL;VALUE=DURATION:PT1H
X-Robots-Tag:noindex
X-PUBLISHED-TTL:PT1H
BEGIN:VTIMEZONE
TZID:UTC
BEGIN:STANDARD
TZOFFSETFROM:+0000
TZOFFSETTO:+0000
TZNAME:UTC
DTSTART:20250101T000000
END:STANDARD
END:VTIMEZONE
BEGIN:VEVENT
DTSTART;TZID=UTC:20260306T174500
DTEND;TZID=UTC:20260306T210000
DTSTAMP:20260420T143910
CREATED:20220412T164601Z
LAST-MODIFIED:20251225T110920Z
UID:1954-1772819100-1772830800@mg-la.ch
SUMMARY:GV vom 2025
DESCRIPTION:Die GV findet statt am 06. März 2026 im Restaurant Hangar5 in Bleienbach. \n\nDen Anwesenden wird ein Imbiss vor der eigentlichen GV offeriert.\n\nBesammlung ist um 18:45 Uhr (die offizielle GV startet ab ca. 20.15 Uhr).
URL:https://mg-la.ch/event/gv-2021/
LOCATION:Hangar 5\, Flugplatz 5\, Bleienbach\, Bern\, 3368\, Switzerland
END:VEVENT
END:VCALENDAR