BEGIN:VCALENDAR
VERSION:2.0
PRODID:-//Modellfluggruppe Langenthal - ECPv6.15.20//NONSGML v1.0//EN
CALSCALE:GREGORIAN
METHOD:PUBLISH
X-WR-CALNAME:Modellfluggruppe Langenthal
X-ORIGINAL-URL:https://mg-la.ch
X-WR-CALDESC:Veranstaltungen für Modellfluggruppe Langenthal
REFRESH-INTERVAL;VALUE=DURATION:PT1H
X-Robots-Tag:noindex
X-PUBLISHED-TTL:PT1H
BEGIN:VTIMEZONE
TZID:UTC
BEGIN:STANDARD
TZOFFSETFROM:+0000
TZOFFSETTO:+0000
TZNAME:UTC
DTSTART:20250101T000000
END:STANDARD
END:VTIMEZONE
BEGIN:VEVENT
DTSTART;VALUE=DATE:20260918
DTEND;VALUE=DATE:20260920
DTSTAMP:20260420T211437
CREATED:20251225T110153Z
LAST-MODIFIED:20251225T110354Z
UID:3303-1789768800-1789855199@mg-la.ch
SUMMARY:Lehrerschülerfliegen
DESCRIPTION:(Provisorischer Termin)
URL:https://mg-la.ch/event/lehrerschuelerfliegen/
END:VEVENT
END:VCALENDAR