BEGIN:VCALENDAR
VERSION:2.0
PRODID:-//Modellfluggruppe Langenthal - ECPv6.15.20//NONSGML v1.0//EN
CALSCALE:GREGORIAN
METHOD:PUBLISH
X-ORIGINAL-URL:https://mg-la.ch
X-WR-CALDESC:Veranstaltungen für Modellfluggruppe Langenthal
REFRESH-INTERVAL;VALUE=DURATION:PT1H
X-Robots-Tag:noindex
X-PUBLISHED-TTL:PT1H
BEGIN:VTIMEZONE
TZID:UTC
BEGIN:STANDARD
TZOFFSETFROM:+0000
TZOFFSETTO:+0000
TZNAME:UTC
DTSTART:20250101T000000
END:STANDARD
END:VTIMEZONE
BEGIN:VEVENT
DTSTART;TZID=UTC:20260821T140000
DTEND;TZID=UTC:20260821T213000
DTSTAMP:20260420T175707
CREATED:20240225T095255Z
LAST-MODIFIED:20251225T110757Z
UID:2747-1787320800-1787347800@mg-la.ch
SUMMARY:Aufbau Flugtag "no limit"
DESCRIPTION:
URL:https://mg-la.ch/event/aufbau-flugtag-no-limit/
LOCATION:Modellflugplatz Langenthal\, Schiessanlage Weier\,\, Langenthal\, Bern\, 4900\, Schweiz
END:VEVENT
BEGIN:VEVENT
DTSTART;VALUE=DATE:20260821
DTEND;VALUE=DATE:20260824
DTSTAMP:20260420T175707
CREATED:20210917T093923Z
LAST-MODIFIED:20251225T110658Z
UID:592-1787349600-1787522399@mg-la.ch
SUMMARY:Flugtag No limit
DESCRIPTION:
URL:https://mg-la.ch/event/hoi-hoi/
LOCATION:Modellflugplatz Langenthal\, Schiessanlage Weier\,\, Langenthal\, Bern\, 4900\, Schweiz
END:VEVENT
END:VCALENDAR